Workbook

Sheet Inicio
B9: 1 | D9: ESQUEMA GENERAL DEL FORTALECIMIENTO INSTITUCIONAL
B36: 2 | D36: EXPLICACIÓN DE LAS HERRAMIENTAS DE DIAGNÓSTICO
E38: OCA+ | K38: OPI | R38: SNA
B49: 3 | D49: APLICACIÓN DE LAS HERRAMIENTAS DE DIAGNÓSTICO
E51: INICIO | K51: OCA+ | R51: OPI
R66: MAPEO DE ACTORES
B74: 4 | D74: PRESENTACIÓN DE DIAGNÓSTICO DESDE MÚLTIPLES ENFOQUES (INFOGRAFÍAS)
E76: INTRODUCCIÓN | K76: OCA+ | R76: OPI
E84: RESUMEN GLOBAL
R85: MAPEO DE ACTORES
E94: SIGUIENTES PASOS
R95: SNA

Sheet Disclaimer
A2: The Civil Society Activity’s Integrated Assessment Tool is the result of the collaboration and innovation of Social Impact, USAID Mexico, and USAID Washington and can be used to monitor and measure output-level activity and outcome-level results, and to visualize the position of organizations within their local system. The tool brings together USAID-approved assessment instruments including the Organizational Capacity Assessment (OCA) and the Organizational Performance Index (OPI) developed by Pact, as well as Stakeholder Mapping. The OPI instrument holds true to the original Pact design, while the OCA and Stakeholder Mapping instruments were customized and contextualized to fit the needs of CSA’s partner organizations in Mexico. The result of SI's innovations is an updated, integrated tool that is easy-to-use, can be applied in a full or modular fashion, and provides real-time data visualization. These features allow CSOs to carry out their own assessments on a recurring basis and to make decisions on where they stand in their capacity development processes and what their priorities are on-the-spot. The Integrated Assessment Tool was developed through a process of Collaborating, Learning, and Adapting (CLA) that involved a diverse team of experts and feedback from partner CSOs. Throughout the process of designing, implementing, and validating CSA’s Integrated Assessment Tool, Social Impact prioritized the integration of the three assessment instruments to achieve its strategy, which targets three dimensions of capacity development — internal strengthening, improving connections and collaboration in the environment, and systemic impact. Social Impact encourages CSOs and capacity development practitioners to make use of the Integrated Assessment Tool to contribute to the sustainability of results in the civil society sector in the Latin American context.
A23: "This tool was produced for review by the United States Agency for International Development. It was prepared by the Civil Society Activity (CSA) for USAID Mexico Contract No. AID-OAA-I-13-00045. The contents do not necessarily reflect the views of the United States Agency for International Development or the United States Government. ------------------------------------------------ Esta herramienta fue elaborada para revisión de la Agencia de los Estados Unidos para el Desarrollo Internacional. Fue preparada por el Programa para la Sociedad Civil de USAID México, implementado por Social Impact, Inc. Bajo el contrato No. AID-OAA-I-13-00045. Sus contenidos no reflejan necesariamente la postura de USAID o del gobierno de los Estados Unidos. "

Sheet Portada
C7: Diagnóstico de Capacidades Organizacionales
C8: Este documento presenta los Hallazgos y Recomendaciones del Diagnóstico Participativo y Análisis del Sistema de la organización ___________________________________________. El proceso de diagnóstico participativo, llevado a cabo durante _____ de 20_, fue facilitado por ___________________________________ y acompañado por el Programa para la Sociedad Civil (CSA por sus siglas en inglés), implementado por Social Impact y Appleseed, A.C., que es un programa de la Misión bilateral de la Agencia de los Estados Unidos para el Desarrollo Internacional en México (USAID/México). A través de la asistencia técnica especializada de CSA y USAID, la cual se fundamenta en las necesidades específicas de cada organización, se fomentará la capacidad de las OSC para implementar sus propios proyectos y así lograr sus objetivos, así como aumentar su capacidad de contribuir a los objetivos de desarrollo de USAID a través de facilitar alianzas estratégicas con colaboradores y socios en otros sectores, entre ellos el sector público y privado, las universidades, los organismos internacionales y los medios de comunicación. CSA utiliza una metodología integrada de fortalecimiento institucional con base en un enfoque sistémico. Alineado con el énfasis de USAID en el fortalecimiento y la sustentabilidad de sistemas dentro de los cuales las organizaciones de la sociedad civil operan y los enfoques asociados con el Desarrollo de Capacidades 2.0, CSA combina los enfoques de desarrollo de capacidades internas (Desarrollo de Capacidades Humanas e Institucionales, HICD por sus siglas en inglés) con un enfoque externo basado en Sistemas Locales. Dentro de esta metodología para el fortalecimiento institucional, CSA utiliza una Herramienta de Diagnóstico Participativo la cual busca identificar las causas de raíz de las brechas en el desempeño institucional, para posteriormente apoyar a las organizaciones, fundaciones y fortalecedoras de la sociedad civil en la atención de estas brechas.
C9: La metodología para este diagnóstico es participativa y basada en el uso de diversos instrumentos. Se utiliza en primer lugar la herramienta de diagnóstico participativo (Organizational Capacity Assesment, OCA+ por sus siglas en inglés). La herramienta de diagnóstico participativo evalúa la capacidad técnica de las organizaciones a través de 8 ejes: Planeación y Liderazgo; Gestión de Programas y Proyectos; Sistemas y Procesos Internos; Género e Inclusión; Capital Humano; Calidad en la Inversión Social; Gestión de Recursos y Comunicación Externa. En segundo lugar, se utilizan instrumentos de recopilación de información para identificar los objetivos de la organización y analizar el desempeño de la misma para alcanzar sus objetivos. La recopilación de información contempló una revisión documental y la realización de entrevistas con personas del equipo.
C10: El Índice de Desempeño Organizacional (OPI por sus siglas en inglés) se obtiene a través de la aplicación de una herramienta para medir y conocer el desarrollo de capacidades de las organizaciones. El OPI como índice es totalmente consistente con las recomendaciones más recientes de USAID sobre medición de desarrollo de capacidad. OPI específicamente, mide el desempeño en lugar de la capacidad en sí misma. Los dominios que analiza el OPI son los siguientes: a) Eficacia b) Eficiencia c) Relevancia d) Sustentabilidad
C11: Las herramientas de Mapeo de Sistemas y Análisis Social del Sistema (SNA por sus siglas en inglés) son empleadas para comprender la vinculación de ___________________ con diferentes actores y comprender el funcionamiento del sistema en el que está inmersa la organización. El Mapeo de Sistemas es una herramienta que utiliza la metodología de las 5Rs, (Resultados, Roles, Relaciones, Reglas y Recursos) para identificar y caracterizar los actores con los que está involucrada activamente la organización. El Análisis Social del Sistema (SNA por sus siglas en inglés) es empleado para conocer el sistema local en el que interactúa ____________________ cuáles son las relaciones que componen éste, qué tipo de actores intervienen, qué roles se ocupan, así como la posición de la organización dentro de su entorno y las características de las conexiones de ella con determinados nodos.

Sheet Datos de la organización
C7: Información de la sesión de diagnóstico
C8: Organización
C10: Fecha diagnóstico
D11: dd/mm/aaaa
C13: Nombre de organización | D13: Nombre de la Organización
C14: Estado
C15: Municipio
C16: Dirección de oficina
C17: Teléfono
C20: Nombre completo | D20: Cargo | E20: Correo electrónico
C30: Equipo evaluador
C32: Nombre completo | D32: Cargo | E32: Correo electrónico

Sheet Información Gral
B6: Metodología e Instrucciones
B7: Objetivos
B8: Objetivo general: Identificar y analizar las capacidades institucionales internas y las capacidades de la organización en la interacción con su entorno. Objetivos específicos: 1. Aplicar la herramienta de diagnóstico de capacidades institucionales internas (OCA+). 2. Aplicar la herramienta de capacidades institucionales externas (OPI). 3. Realizar la revisión de documentos clave de la organización. 4. Aplicar el cuestionario de Análisis de Sistema (SNA). 5. Aplicar la herramienta de Mapeo de Actores. 6. Analizar los resultados del diagnóstico para presentar un informe de hallazgos y recomendaciones de fortalecimiento institucional. 7. Construir un plan de trabajo para fortalecer las capacidades institucionales de la organización mediante paquetes de solución adaptados a las características y necesidades de la misma.
B10: Herramienta OCA +
B11: La herramienta de diagnóstico participativo OCA+ permite conocer el estado y el funcionamiento de las capacidades organizacionales internas y se compone por 8 ejes estratégicos: 1. Planeación y Liderazgo 5. Capital Humano 2. Gestión de programas 6. Monitoreo y evaluación 3. Procesos de la organización 7. Gestión de recursos 4. Género e Inclusión 8. Comunicación externa La aplicación de cada eje permite identificar fortalezas, problemáticas, áreas de oportunidad y posibilidades de fortalecimiento. La herramienta está diseñada para analizar los ejes estratégicos de manera independiente, de forma que la organización puede optar por analizar sus ejes prioritarios, o bien, por aplicar todos los ejes del diagnóstico. Cada eje estratégico, ubicado en una hoja distinta de la herramienta, está compuesto por componentes (marcados en color azul) y criterios que analizan de forma focalizada las capacidades internas de la organización.
B12: Indicaciones adicionales: Los ejes estratégicos analizados durante la sesión deben ser aquellos que sean prioritarios para la organización. En cualquier momento puede recurrirse a la hoja de "Glosario" para encontrar una breve explicación de los conceptos principales de la herramienta. Resulta fundamental que participen en las discusiones todas y todos en el grupo, pues se obtendrá una radiografía más precisa de la organización, a partir del contraste de diferentes ideas y percepciones de sus integrantes. Es posible que algunas de las preguntas, por su importancia y vinculación a diferentes áreas de la organización, estén presentes en más de un eje. Se busca que el diagnóstico aborde esas preguntas independientemente de cuáles sean los ejes estratégicos que elija analizar la organización.
B14: Aplicación de la herramienta OCA +
B15: *Se sugiere que el grupo se coloque en forma de herradura de forma que pueda participar y ver los materiales que se presenten con el proyector. 1. Se repartirá a cada integrante del grupo un conjunto de tarjetas con valores del 1 al 6. 2. La facilitadora o facilitador leerá la pregunta generadora ubicada del lado izquierdo y desplegará una lista de posibles opciones de respuesta. 3. Cada persona del grupo elegirá una respuesta de la opción múltiple y colocará la tarjeta elegida hacia abajo. Cuando todas/os hayan votado levantarán, al mismo tiempo, las tarjetas. 4. La facilitadora/o registrará el número elegido por la mayoría en la opción múltiple y escuchará las diferentes razones del grupo para elegir su respuesta. Resulta valioso que el equipo indique cuáles considera que pueden ser las posibles causas de ese desempeño institucional particular.
B16: 5. La facilitadora/o deberá propiciar el consenso y registrará las visiones del grupo en el recuadro de "Situación actual". 6. La facilitadora/o repasará con el grupo la lista de documentos correspondientes a la sección (una vez agotadas todas las preguntas) y registrará si se cuenta o no con ellos. 7. Una vez que queden contestadas las preguntas del componente/sección, la facilitadora/o llamará la atención del grupo al porcentaje obtenido y procederá a la siguiente sección. El grupo deberá completar el diagnóstico de todos los componentes/secciones del módulo. 8. Cuando el grupo complete las secciones del módulo, la persona facilitadora puede dirigirse a la parte superior de la hoja para mostrar al grupo los resultados y gráficas de todo ese módulo/eje estratégico. Es importante aclarar al grupo que los resultados presentados son preliminares y pueden cambiar con la revisión a profundidad de los documentos requeridos. Nota: Se recomienda que al concluir cada sesión de trabajo se realice un cierre apreciativo. 9. Una vez que se haya concluido la aplicación de las herramientas OCA+ y OPI, el equipo evaluador puede proceder a revisar los documentos/evidencia existentes correspondientes mencionados en los ejes estratégicos o los dominios de OPI, con la finalidad de registrar su existencia y observaciones con relación a la calidad del documento y oportunidades de mejora.
B18: Aplicación de la herramienta OPI
B19: *Se sugiere que el grupo se coloque en forma de herradura de forma que pueda participar y ver los materiales que se presenten con el proyector. 1. Se repartirá a cada integrante del grupo un conjunto de tarjetas con valores del 1 al 4. 2. La facilitadora o facilitador explicará que la herramienta OPI está compuesta por 4 dominios con 2 subdominios cada uno, es decir, tiene un total de 8 rubros por contestar. 3. La persona facilitadora comenzará por leer (o le pedirá a una persona del equipo) la definición del dominio y después explicará el primer subdominio. Por ejemplo, iniciará con la lectura de "Efectividad" y procederá con la explicación sobre qué es el subdominio de "Resultados". Nota: Podrá proyectarse la pestaña "OPI Origi", o bien, entregarle una copia impresa a cada integrante.
B20: 4. Para cada subdominio, todas y todos los integrantes del grupo deberá elegir un nivel de desempeño organizacional (desplegados de forma horizontal a lo largo de la hoja) y colocar la tarjeta correspondiente a ese nivel boca a bajo para que, una vez que todos hayan elegido su respuesta, al mismo tiempo la mostrarán. Nota: Dependiendo de la decisión de la persona facilitadora, podrán mostrar la respuesta elegida antes de contestar las preguntas de la pestaña "OPI (2)" o después de hacerlo. 5. La facilitadora/o proyectará la pestaña de "OPI (2)" y leerá las preguntas generadoras ubicadas del lado izquierdo y desplegará una lista de posibles opciones de respuesta. 6. Elegirá la respuesta referida por la mayoría, fomentará el consenso y el diálogo entre el grupo respecto a las respuestas elegidas. Mientras transcurre la discusión, la persona facilitadora deberá registrar las observaciones y la evidencia mencionada por el grupo en la columna ubicada del lado derecho.
... B35: Criterios Cada uno de los criterios de la herramienta está asociado a una pregunta generadora. Con la respuesta de la pregunta, a partir de una opción múltiple, se calcula el valor del criterio en cuestión. Cada una de las preguntas se refieren a un criterio específico del diagnóstico. Algunos de los criterios tienen mayor importancia que otros, por ejemplo, contar con un plan de comunicación tiene un mayor peso que contar con una guía de estilo. Bajo ese entendido, los criterios dentro de un componente/sección tienen una ponderación distinta, de forma que los criterios más importantes tienen un efecto mayor sobre el porcentaje de la sección, mientras que los criterios de menor importancia tienen un efecto menor sobre el porcentaje de la sección. En la herramienta se prevén algunos casos en los que la pregunta puede no aplicar a la organización, por lo que se incluye en la opción múltiple 0. N/A. En caso de que la organización requiriera tal respuesta en una lista de opción múltiple que no la incluye, se sugiere responder el criterio con el valor más alto.

Sheet Glosario
B7: Glosario de conceptos, ejes estratégicos y documentación clave
B8: Glosario
B10: Acciones afirmativas | C10: Aplicación de políticas que dan a un determinado grupo social minoritario o que históricamente haya sufrido discriminación, un trato preferencial en el acceso o distribución de ciertos recursos, servicios y bienes. Las acciones afirmativas buscan mejorar la calidad de vida de los grupos desfavorecidos y compensarlos por los perjuicios o la discriminación de la que han sido víctimas. Un ejemplo son las cuotas de género o identidad sexual.
B11: Acciones de incidencia | C11: Actividades con el objetivo de influir sobre las políticas públicas, las decisiones de asignación de recursos dentro de los sistemas políticos, y las decisiones de gobernantes, instituciones y otros actores públicos. La incidencia incluye campañas en medios, conferencias, publicaciones, encuestas, difusión, cabildeo, entre otras.
B12: Análisis del entorno político | C12: Discusión sobre el contexto local, los actores políticos relevantes, la posición de la organización dentro del sistema y la correlación de fuerzas ante los temas de coyuntura.
B13: Auditoría externa | C13: Evaluación independiente y externa de los registros, procesos, funciones y desempeño de una organización, con el objetivo de comprobar su ccumplimiento con las leyes y reglamentos aplicables.
B14: Asamblea | C14: Es el órgano supremo de la organización. Está integrada por todos los socios. Tiene todas las atribuciones y representación para decidir sobre cualquier asunto que interese o afecte a la organización.
B15: Capital humano (eje estratégico) | C15: Criterios y temas de la organizaciónvinculados a las relaciones humanas dentro de la organización, tales como los procesos de gestión de personal, los sistemas de pago y las políticas de selección de postulantes.
B16: Código de conducta | C16: Declaración de principios y valores que establece expectativas y estándares obligatorios sobre la conducta de una organización, un organismo gubernamental, una compañía, un grupo de per- sonas a liadas o un individuo, incluidos los niveles mínimos de cumplimiento y las medidas disciplinarias en caso de omisión, para la organización, su personal y los voluntarios. El objetivo de dicho mecanismo es procurar que impere una con- ducta digna y ética que responda a las necesidades de la socie- dad y que oriente su desempeño.
B17: Conflicto de interés | C17: La posible afectación del desempeño imparcial y objetivo de las funciones de los Servidores Públicos o empleados del sector pri- vado, academia y sociedad civil, ocasionando la intervención por motivo de su empleo, cargo o comisión en cualquier forma, en la atención, tramitación o resolución de asuntos, en los cuales ten- ga intereses personales, familiares o de negocios, o contravengan lo establecido en la Ley.
B18: Comunicación externa (eje estratégico) | C18: Temas y criterios vinculados a la planeación, implementación y medición de la comunicación externa de la organización.
B19: Consejo consultivo | C19: Es órgano colegiado y plural, integrado por personas expertas de diversos sectores de la sociedad, que tiene la función de proponer, analizar y emitir su opinión sobre acerca de las líneas de trabajo de la organización.
B20: Consejo directivo | C20: Es el órgano ejecutivo de la organización. Tiene la representación de la Asamblea con toda clase de facultades, salvo las que expresamente quedan atribuidas, en los Estatutos, a la Asamblea General y al Presidente. Marca las directrices para el desarrollo de las actividades y proyectos, aprueba propuestas, proyectos y nuevas incorporaciones. Está integrada por el Presidente y entre diez y veinte miembros.
B21: Donataria autorizada | C21: Es una organización civil o fideicomiso que cuenta con autorización por parte del Servicio de Administración Tributaria (SAT), para recibir donativos deducibles del Impuesto Sobre la Renta, pueden ser asociación civil (AC), sociedad comercial (SC) o persona moral con fines de interés público (IAP).
... B69: Transversalización de la perspectiva de género | C69: Enfoque que busca visibilizar, en todos los ámbitos organizacionales, la construcción social y cultural de la desigualdad entre hombres y mujeres, y proponer medidas para contrarrestar dicha construcción.

Sheet 1.0 Planeación
B1: PLANEACIÓN Y LIDERAZGO
C2: RESULTADOS | G2: ESCALA 4 | H2: ESCALA 100% | S2: Ponderación | T2: Valor Máximo | V2: Valor Alcanzado
C3: =B11 -> Estrategia y planes operativos | G3: =O12 -> 0 | H3: =P12 -> 0 | I3: 1 | S3: 0.4 | T3: 4 | U3: =T3*S3 -> 1.6 | V3: =SUM(W3:W6) -> 0 | W3: =U3*H3 -> 0 | X3: =SUM(Y3:Y6) -> 0 | Y3: =H3*S3 -> 0
C4: =B29 -> Cultura organizacional | G4: =O30 -> 0 | H4: =P30 -> 0 | I4: 1 | S4: 0.1 | U4: =T3*S4 -> 0.4 | W4: =U4*H4 -> 0 | Y4: =H4*S4 -> 0
C5: =B43 -> Estructura organizacional y mejora continua | G5: =O44 -> 0 | H5: =P44 -> 0 | I5: 1 | S5: 0.2 | U5: =T3*S5 -> 0.8 | W5: =U5*H5 -> 0 | Y5: =H5*S5 -> 0
C6: =B58 -> Liderazgo y Gobernanza | G6: =O59 -> 0 | H6: =P59 -> 0 | I6: 1 | S6: 0.3 | U6: =T3*S6 -> 1.2 | W6: =U6*H6 -> 0 | Y6: =H6*S6 -> 0
C8: Puntaje Ponderado | G8: =H8*4 -> 0 | H8: =X3 -> 0 | S8: =SUM(S3:S6) -> 1
B11: Estrategia y planes operativos | O11: Puntaje (máximo 4) | P11: Porcentaje (máximo 100%)
O12: =P12*4 -> 0 | P12: =X14 -> 0
B13: Preguntas Generadoras | G13: Respuesta | L13: Situación Actual | N13: Recomendaciones | S13: Ponderación | T13: Valor Máximo | V13: Valor Alcanzado
B14: ¿Se cuenta con una misión, visión y valores? | E14: ? | G14: 1. No se tiene | J14: + | K14: =VLOOKUP(G14,Referencia!C5:D9,2) -> 0 | N14: - Revisar y actualizar misión, visión y valores. - Generar objetivos estratégicos vinculados a la misión de la organización. - Realizar un análisis del entorno político en el que opera la organización y necesidades de sus grupos de interés - Integrar en un documento el análisis del marco normativo aplicable a cada uno de los programas. - Llevar a cabo un proceso de planeación estratégica en el que el equipo discuta y defina un plan estratégico a tres años alineado a la misión y objetivos de la organización. - Desarrollar un plan operativo anual por escrito que integre todas las actividades y proyectos de la organización y defina plazos y recursos para alcanzar los resultados deseados. - Definir una matriz de indicadores de resultados para medir el cumplimiento de metas y guiar la toma de decisiones institucionales. | S14: 0.05 | T14: 4 | U14: =T14*S14 -> 0.2 | V14: =SUM(W14:W20) -> 0 | W14: =U14*(AVERAGE(K14:K14)) -> 0 | X14: =SUM(Y14:Y20) -> 0 | Y14: =K14*S14 -> 0
B15: ¿Se han definido objetivos estratégicos vinculados a la misión de la organización? | E15: ? | G15: 1. No se tiene | J15: + | K15: =VLOOKUP(G15,Referencia!C15:D19,2) -> 0 | S15: 0.1 | U15: =T14*S15 -> 0.4 | W15: =U15*(AVERAGE(K15:K15)) -> 0 | Y15: =K15*S15 -> 0
B16: ¿Se ha analizado el entorno político y las necesidades de los grupos de interés (stakeholders)? | E16: ? | G16: 1. No | J16: + | K16: =VLOOKUP(G16,Referencia!C25:D29,2) -> 0 | S16: 0.1 | U16: =T14*S16 -> 0.4 | W16: =U16*(AVERAGE(K16:K16)) -> 0 | Y16: =K16*S16 -> 0
B17: ¿Se ha analizado el marco normativo aplicable a los programas de la organización? | E17: ? | G17: 1. No se analiza | J17: + | K17: =VLOOKUP(G17,Referencia!C35:D39,2) -> 0 | S17: 0.1 | U17: =T14*S17 -> 0.4 | W17: =U17*(AVERAGE(K17:K17)) -> 0 | Y17: =K17*S17 -> 0
B18: ¿La organización cuenta con un plan estratégico por escrito y actualizado, producto de una discusión y aprobación de todas las áreas? | E18: ? | G18: 1. No | J18: + | K18: =VLOOKUP(G18,Referencia!C45:D49,2) -> 0 | S18: 0.3 | U18: =T14*S18 -> 1.2 | W18: =U18*(AVERAGE(K18:K18)) -> 0 | Y18: =K18*S18 -> 0
B19: ¿Se cuenta con un plan operativo anual por escrito y actualizado que defina plazos y recursos para alcanzar los resultados esperados? | E19: ? | G19: 1. No | J19: + | K19: =VLOOKUP(G19,Referencia!C55:D59,2) -> 0 | S19: 0.3 | U19: =T14*S19 -> 1.2 | W19: =U19*(AVERAGE(K19:K19)) -> 0 | Y19: =K19*S19 -> 0
B20: ¿Se cuenta con una matriz de indicadores de resultados claves de la organización para guiar la toma de decisiones? | E20: ? | G20: 1. No | J20: + | K20: =VLOOKUP(G20,Referencia!C65:D69,2) -> 0 | S20: 0.05 | U20: =T14*S20 -> 0.2 | W20: =U20*(AVERAGE(K20:K20)) -> 0 | Y20: =K20*S20 -> 0
B21: Documentación / Evidencia | G21: Capacidad Baja (1) | L21: Capacidad Básica (2) | M21: Capacidad Intermedia (3) | O21: Capacidad Fuerte (4) | S21: =SUM(S14:S20) -> 1 | U21: =SUM(U14:U20) -> 4 | X21: =X14*T14 -> 0
B22: Misión Visión y Valores | E22: =IF(K14=0%,0,(IF(K14<75%,1,2))) -> 0 | G22: - La organización no cuenta con una misión, visión y valores y aún no ha definido objetivos estratégicos. - No se ha analizado el entorno político, las necesidades de los grupos de interés (stakeholders) y el marco normativo aplicable a los programas. - La organización no cuenta con un plan estratégico. - No existe un plan anual operativo ni una matriz de indicadores de resultados. | L22: - La organización cuenta con una misión, visión y valores pero no definido objetivos estratégicos. - El equipo ha analizado el entorno político aunque no ha identificado las necesidades de los grupos de interés (stakeholders). - Se ha analizado el marco normativo aplicable a algunos programas. - La organización cuenta con un plan estratégico aunque no por escrito. - Existe un plan anual operativo que no siempre es aplicado. - No se ha creado una matriz de indicadores de resultados. | M22: - La organización cuenta con una misión, visión y valores y ha definido objetivos estratégicos. - Se ha analizado el entorno político y las necesidades de los grupos de interés (stakeholders), y el marco normativo aplicable algunos de los programas. - La organización cuenta con un plan estratégico aunque no está actualizado y no siempre se aplica. - Se cuenta con un plan anual operativo por escrito pero éste no define plazos y recursos para alcanzar los resultados esperados. - Se tienen algunos indicadores de resultados pero no se utilizan para guiar la toma de decisiones. | O22: - La organización cuenta con una misión, visión y valores y ha definido objetivos estratégicos. - Se ha analizado el entorno político y las necesidades de los grupos de interés (stakeholders), y el marco normativo aplicable a los programas. - La organización cuenta con un plan estratégico por escrito y actualizado, producto de la discusión y aprobación del equipo. - Se cuenta con un plan anual operativo, por escrito, que define plazos y recursos para alcanzar resultados esperados. - Se aplican el plan estratégico y el plan operativo. - Se cuenta con una matriz de indicadores de resultados para guiar la toma de decisiones.
B23: Análisis del entorno político y necesidades de grupos de interés | E23: =IF(K16=0%,0,(IF(K16<75%,1,2))) -> 0
B24: Plan estratégico a largo plazo | E24: =IF(K18=0%,0,(IF(K18<75%,1,2))) -> 0
B25: Plan operativo anual | E25: =IF(K19=0%,0,(IF(K19<75%,1,2))) -> 0
B26: Matriz de indicadores de resultados claves | E26: =IF(K20=0%,0,(IF(K20<75%,1,2))) -> 0
B29: Cultura organizacional | O29: Puntaje (máximo 4) | P29: Porcentaje (máximo 100%)
O30: =P30*4 -> 0 | P30: =X32 -> 0
B31: Preguntas Generadoras | G31: Respuesta | L31: Situación Actual | N31: Recomendaciones | S31: Ponderación | T31: Valor Máximo | V31: Valor Alcanzado
B32: ¿Se promueve el cuidado a la seguridad de las personas colaboradoras? | E32: ? | G32: 1. No | J32: + | K32: =VLOOKUP(G32,Referencia!C75:D79,2) -> 0 | N32: - Desarrollar un plan de seguridad para el trabajo en campo. - Promover la institucionalización de medidas para mejorar la calidad de vida de las personas, como políticas de cuidados, flexibilización de horarios, trabajo desde casa, entre otros. - Mejorar la comunicación con el equipo respecto a sus necesidades de salud y seguridad. - Establecer mecanismos para la conservación de los recursos físicos de la organización. - Definir mecanismos de adaptación de la organización a posibles cambios internos y externos. | S32: 0.3 | T32: 4 | U32: =T32*S32 -> 1.2 | V32: =SUM(W32:W35) -> 0 | W32: =U32*K32 -> 0 | X32: =SUM(Y32:Y35) -> 0 | Y32: =K32*S32 -> 0
B33: ¿Se promueve, formaliza y materializa la mejora de la calidad de vida de las personas? (salud, cuidados, flexibilidad de horarios, trabajo en casa, entre otros) | E33: ? | G33: 1. No | J33: + | K33: =VLOOKUP(G33,Referencia!C85:D89,2) -> 0 | S33: 0.3 | U33: =T32*S33 -> 1.2 | W33: =U33*K33 -> 0 | Y33: =K33*S33 -> 0
B34: ¿Se promueve la conservación de los recursos materiales de la organización? | G34: 1. No | J34: + | K34: =VLOOKUP(G34,Referencia!C95:D99,2) -> 0 | S34: 0.1 | U34: =T32*S34 -> 0.4 | W34: =U34*K34 -> 0 | Y34: =K34*S34 -> 0
B35: ¿Existen mecanismos para identificar y adaptarse a cambios en el ambiente interno y externo? | G35: 1. No | J35: + | K35: =VLOOKUP(G35,Referencia!C105:D109,2) -> 0 | S35: 0.3 | U35: =T32*S35 -> 1.2 | W35: =U35*K35 -> 0 | Y35: =K35*S35 -> 0
B36: Documentación / Evidencia | G36: Capacidad Baja (1) | L36: Capacidad Básica (2) | M36: Capacidad Intermedia (3) | O36: Capacidad Fuerte (4) | S36: =SUM(S32:S35) -> 1 | X36: =X32*T32 -> 0
B37: Plan de seguridad o equivalente | E37: =IF(K32=0%,0,(IF(K32<75%,1,2))) -> 0 | G37: - La organización no preserva la seguridad de sus integrantes. - No se promueven acciones para mejorar la calidad de vida de las personas. - La organización no cuenta con mecanismos para la conservación de recursos materiales. - No se cuenta con mecanismos para responder a los cambios en el ambiente interno y externo. | L37: - La organización ha reunido algunas recomendaciones de seguridad. - Se promueven algunas acciones aisladas para mejorar la calidad de vida de las personas. - En algunas ocasiones se fomenta la conservación de recursos de la organización. - La organización no siempre logra adaptarse a los cambios en el ambiente interno y externo y no tiene mecanismos definidos. | M37: - La organización tiene un plan de seguridad que se aplica en algunas ocasiones. - Se promueven acciones para mejorar la calidad de vida de las personas pero no están institucionalizadas. - Se fomenta la conservación de recursos de la organización pero no existen mecanismos por escrito. - Aunque la organización no cuenta con mecanismos definidos, logra adaptarse a cambios en el ambiente interno y externo. | O37: - La organización aplica consistentemente su plan de seguridad. - Están institucionalizadas medidas para promover la mejora de la calidad de vida de las personas, como cuidados, atención de salud y flexibilidad de horarios. - Se fomenta La conservación de todos los recursos de La organización con mecanismos escritos. - La organización ha establecido mecanismos para adaptarse a los cambios en el ambiente interno y externo.
B38: Políticas de cuidado / mantenimiento de recursos materiales | E38: =IF(K34=0%,0,(IF(K34<75%,1,2))) -> 0
B43: Estructura organizacional y mejora continua | O43: Puntaje (máximo 4) | P43: Porcentaje (máximo 100%)
O44: =P44*4 -> 0 | P44: =X46 -> 0
B45: Preguntas Generadoras | G45: Respuesta | L45: Situación Actual | N45: Recomendaciones | S45: Ponderación | T45: Valor Máximo | V45: Valor Alcanzado
B46: ¿La estructura de la organización está alineada con la planeación estratégica y las expectativas organizacionales? | G46: 1. No | J46: + | K46: =VLOOKUP(G46,Referencia!C115:D119,2) -> 0 | N46: - Revisar y actualizar la estructura de la organización de forma que esté alineada a los objetivos estratégicos y la planeación estratégica. - Establecer por escrito la separación de funciones operativa/técnicas y administrativas. - Definir mecanismos de colaboración entre áreas y darlos a conocer al equipo. - Socializar entre el equipo metas, planes de acción y el cumplimiento de objetivos. - Planear sesiones de trabajo con el equipo para diseñar estrategias de mejora continua. | S46: 0.4 | T46: 4 | U46: =T46*S46 -> 1.6 | V46: =SUM(W46:W50) -> 0 | W46: =U46*K46 -> 0 | X46: =SUM(Y46:Y50) -> 0 | Y46: =K46*S46 -> 0
B47: ¿Están separadas con claridad las funciones administrativas y operativas / técnicas? | G47: 1. No | J47: + | K47: =VLOOKUP(G47,Referencia!C125:D129,2) -> 0 | S47: 0.2 | U47: =T46*S47 -> 0.8 | W47: =U47*K47 -> 0 | Y47: =K47*S47 -> 0
B48: ¿Se fomenta la colaboración entre las distintas áreas de la organización? | G48: 1. No | J48: + | K48: =VLOOKUP(G48,Referencia!C135:D139,2) -> 0 | S48: 0.1 | U48: =T46*S48 -> 0.4 | W48: =U48*K48 -> 0 | Y48: =K48*S48 -> 0
B49: ¿Se da a conocer al equipo las metas, planes de acción y el cumplimiento progresivo de las metas? | G49: 1. No / No están definidos | J49: + | K49: =VLOOKUP(G49,Referencia!C145:D149,2) -> 0 | S49: 0.1 | U49: =T46*S49 -> 0.4 | W49: =U49*K49 -> 0 | Y49: =K49*S49 -> 0
...

Sheet 2.0 Gestión programas
B1: GESTIÓN DE PROGRAMAS
C2: RESULTADOS | G2: ESCALA 4 | H2: ESCALA 100% | S2: Ponderación | T2: Valor Máximo | V2: Valor Alcanzado
C3: =B11 -> Vinculación y rendición de cuentas | G3: =O12 -> 0 | H3: =P12 -> 0 | I3: 1 | S3: 0.2 | T3: 4 | U3: =T3*S3 -> 0.8 | V3: =SUM(W3:W6) -> 0 | W3: =U3*H3 -> 0 | X3: =SUM(Y3:Y6) -> 0 | Y3: =H3*S3 -> 0
C4: =B24 -> Impacto social | G4: =O25 -> 0 | H4: =P25 -> 0 | I4: 1 | S4: 0.2 | U4: =T3*S4 -> 0.8 | W4: =U4*H4 -> 0 | Y4: =H4*S4 -> 0
C5: =B36 -> Transparencia | G5: =O37 -> 0 | H5: =P37 -> 0 | I5: 1 | S5: 0.1 | U5: =T3*S5 -> 0.4 | W5: =U5*H5 -> 0 | Y5: =H5*S5 -> 0
C6: =B48 -> Procuración y diversificación de fondos | G6: =O49 -> 0 | H6: =P49 -> 0 | I6: 1 | S6: 0.5 | U6: =T3*S6 -> 2 | W6: =U6*H6 -> 0 | Y6: =H6*S6 -> 0
C8: Puntaje Ponderado | G8: =V3 -> 0 | H8: =X3 -> 0 | S8: =SUM(S3:S6) -> 1 | X8: =X3*T3 -> 0
B11: Vinculación y rendición de cuentas | O11: Puntaje (máximo 4) | P11: Porcentaje (máximo 100%)
O12: =P12*4 -> 0 | P12: =X14 -> 0
B13: Preguntas Generadoras | G13: Respuesta | L13: Situación Actual | N13: Recomendaciones | S13: Ponderación | T13: Valor Máximo | V13: Valor Alcanzado
B14: ¿Se dan a conocer los resultados de los programas y el manejo de recursos a los financiadores? | G14: 1. No | J14: + | K14: =VLOOKUP(G14,Referencia!K5:L9,2) -> 0 | N14: - Establecer un canal de comunicación formal con financiadores para informarles de los resultados de los programas y el manejo de los recursos. - Ampliar y fortalecer vías de comunicación con la población objetivo para informarles de los hallazgos de los programas. - Establecer mecanismos escritos para recabar la visión de la ciudadanía sobre los programas y servicios de la organización. | S14: 0.4 | T14: 4 | U14: =T14*S14 -> 1.6 | V14: =SUM(W14:W16) -> 0 | W14: =U14*K14 -> 0 | X14: =SUM(Y14:Y16) -> 0 | Y14: =K14*S14 -> 0
B15: ¿Se comunica a la población objetivo los hallazgos de los programas? | G15: 1. No | J15: + | K15: =VLOOKUP(G15,Referencia!K15:L19,2) -> 0 | S15: 0.3 | U15: =T14*S15 -> 1.2 | W15: =U15*K15 -> 0 | Y15: =K15*S15 -> 0
B16: ¿Se cuenta con mecanismos documentados, aplicados y actualizados para contar con retroalimentación de la ciudadanía sobre los programas y servicios de la organización? | G16: 1. No | J16: + | K16: =VLOOKUP(G16,Referencia!K25:L29,2) -> 0 | S16: 0.3 | U16: =T14*S16 -> 1.2 | W16: =U16*K16 -> 0 | Y16: =K16*S16 -> 0
B17: Documentación / Evidencia | G17: Capacidad Baja (1) | L17: Capacidad Básica (2) | M17: Capacidad Intermedia (3) | O17: Capacidad Fuerte (4) | S17: =SUM(S14:S16) -> 1 | X17: =T14*X14 -> 0
B18: Compilado de informes / reportes dirigidos a financiadores | E18: =IF(K14=0%,0,(IF(K14<75%,1,2))) -> 0 | G18: - La organización no informa a sus financiadores sobre los resultados de sus programas y el manejo de recursos. - No se tienen establecidos canales de comunicación con la población objetivo. - No se recibe retroalimentación de la ciudadanía. | L18: - La organización informa ocasionalmente a algunos de los financiadores sobre los resultados de sus programas y el manejo de recursos. - Se tiene un canal de comunicación con la población objetivo pero no se usa para informar sobre los hallazgos de los programas. - Esporádicamente se recibe retroalimentación de la ciudadanía sobre los programas y servicios de la organización. | M18: - La organización informa a algunos de los financiadores sobre los resultados de sus programas pero no sobre el manejo de los recursos. - Existe un canal de comunicación con la población objetivo que se usa ocasionalmente para informar sobre los hallazgos de los programas. - La organización recibe retroalimentación de la ciudadanía sobre los programas y servicios de la organización pero no documenta el proceso. | O18: - La organización informa por canales formales a los financiadores sobre los resultados de sus programas y el manejo de los recursos. - Existe un canal de comunicación con la población objetivo que se utiliza constantemente los hallazgos de los programas. - La organización ha establecido mecanismos para recabar y documentar retroalimentación de la ciudadanía sobre los programas y servicios ofrecidos.
B19: Compilado de informes / reportes dirigidos a la población objetivo | E19: =IF(K15=0%,0,(IF(K15<75%,1,2))) -> 0
B20: Documentos en los que se evidencie la retroalimentación de la ciudadanía | E20: =IF(K16=0%,0,(IF(K16<75%,1,2))) -> 0
B24: Impacto social | O24: Puntaje (máximo 4) | P24: Porcentaje (máximo 100%)
O25: =P25*4 -> 0 | P25: =X27 -> 0
B26: Preguntas Generadoras | G26: Respuesta | L26: Situación Actual | N26: Recomendaciones | S26: Ponderación | T26: Valor Máximo | V26: Valor Alcanzado
B27: ¿La organización cuenta con un plan estratégico por escrito para elegir y mantener determinadas alianzas? | E27: ? | G27: 1. No | J27: + | K27: =VLOOKUP(G27,Referencia!K35:L39,2) -> 0 | N27: - Generar por escrito un plan de alianzas que establezca los criterios para establecer alianzas. - Definir las características de la participación de la organización en alianzas bilaterales y redes locales y nacionales. | S27: 0.6 | T27: 4 | U27: =T27*S27 -> 2.4 | V27: =SUM(W27:W29) -> 0 | W27: =U27*K27 -> 0 | X27: =SUM(Y27:Y29) -> 0 | Y27: =K27*S27 -> 0
B28: ¿La organización aprovecha su participación en redes locales? (acceder a mejores prácticas, donantes, oportunidades de articulación, u otros beneficios concretos. ) | G28: 1. No tiene participación | J28: + | K28: =VLOOKUP(G28,Referencia!K45:L49,2) -> 0 | S28: 0.2 | U28: =T27*S28 -> 0.8 | W28: =K28*U28 -> 0 | Y28: =K28*S28 -> 0
B29: ¿La organización aprovecha su participación en redes nacionales? ( acceder a mejores prácticas, donantes, oportunidades de articulación, u otros beneficios concretos. ) | G29: 1. No tiene participación | J29: + | K29: =VLOOKUP(G29,Referencia!K55:L59,2) -> 0 | S29: 0.2 | U29: =T27*S29 -> 0.8 | W29: =K29*U29 -> 0 | Y29: =K29*S29 -> 0
B30: Documentación / Evidencia | G30: Capacidad Baja (1) | L30: Capacidad Básica (2) | M30: Capacidad Intermedia (3) | O30: Capacidad Fuerte (4) | S30: =SUM(S27:S29) -> 1 | X30: =T27*X27 -> 0
B31: Plan estratégico de alianzas o equivalente | E31: =IF(K27=0%,0,(IF(K27<75%,1,2))) -> 0 | G31: No se cuenta con un plan para generar y fortalecer alianzas estratégicas. La organización no participa en redes locales o nacionales. | L31: Se cuenta con un plan para generar alianzas aunque éste no está alineado a la planeación estratégica. La organización aprovecha su participación en redes locales para conocer buenas prácticas. | M31: Se cuenta con un plan alineado a la planeación estratégica para generar alianzas. La organización aprovecha su participación en redes locales y nacionales para conocer buenas prácticas, fuentes de financiamiento y oportunidades de articulación. | O31: Se cuenta por escrito con un plan alineado a la planeación estratégica para generar y fortalecer alianzas. La organización aprovecha su participación en redes locales y nacionales para conocer buenas prácticas, fuentes de financiamiento y oportunidades de articulación.
B32: Lista de afiliación de la red local | E32: =IF(K28=0%,0,(IF(K28<75%,1,2))) -> 0
B33: Lista de afiliación de la red nacional | E33: =IF(K29=0%,0,(IF(K29<75%,1,2))) -> 0
B36: Transparencia | O36: Puntaje (máximo 4) | P36: Porcentaje (máximo 100%)
O37: =P37*4 -> 0 | P37: =IF(K41="N/A",AF39,X39) -> 0
B38: Preguntas Generadoras | G38: Respuesta | L38: Situación Actual | N38: Recomendaciones | S38: Ponderación | T38: Valor Máximo | V38: Valor Alcanzado | AA38: Ponderación | AB38: Valor Máximo | AD38: Valor Alcanzado
B39: ¿La organización ha definido criterios para determinar qué información es pública frente a la que es reservada? | G39: 1. No | J39: + | K39: =VLOOKUP(G39,Referencia!K65:L69,2) -> 0 | N39: - Definir y aplicar en la práctica criterios para distinguir información pública y reservada. - Enlistar las obligaciones de transparencia con las que debe cumplir la organización y diseñar una estrategia para lograr su pleno cumplimiento. - Actualizar la página de internet para que se presente la información sobre programas y servicios de manera accesible a la población objetivo. | S39: 0.25 | T39: 4 | U39: =T39*S39 -> 1 | V39: =SUM(W39:W41) -> #VALUE! | W39: =U39*K39 -> 0 | X39: =SUM(Y39:Y41) -> #VALUE! | Y39: =K39*S39 -> 0 | AA39: 0.3 | AB39: 4 | AC39: =AB39*AA39 -> 1.2 | AD39: =SUM(AE39:AE41) -> 0 | AE39: =AC39*K39 -> 0 | AF39: =SUM(AG39:AG41) -> 0 | AG39: =K39*AA39 -> 0
B40: ¿Se cumple con las obligaciones en materia de transparencia? | G40: 1. No | J40: + | K40: =VLOOKUP(G40,Referencia!K75:L79,2) -> 0 | S40: 0.4 | U40: =T39*S40 -> 1.6 | W40: =K40*U40 -> 0 | Y40: =K40*S40 -> 0 | AA40: 0.7 | AC40: =AB39*AA40 -> 2.8 | AE40: =K40*AC40 -> 0 | AG40: =K40*AA40 -> 0
B41: ¿La información en el portal de internet resulta accesible para la población objetivo? | G41: 0. N/A | J41: + | K41: =VLOOKUP(G41,Referencia!K85:L90,2) -> N/A | S41: 0.35 | U41: =T39*S41 -> 1.4 | W41: =K41*U41 -> #VALUE! | Y41: =K41*S41 -> #VALUE! | AA41: N/A | AC41: =AA41 -> N/A | AE41: =AC41 -> N/A | AG41: =AE41 -> N/A
B42: Documentación / Evidencia | G42: Capacidad Baja (1) | L42: Capacidad Básica (2) | M42: Capacidad Intermedia (3) | O42: Capacidad Fuerte (4) | S42: =SUM(S39:S41) -> 1 | X42: =T39*X39 -> #VALUE! | AA42: =SUM(AA39:AA41) -> 1
G43: - La organización no distingue entre la información pública y reservada. - La organización no cumple con ninguna de las obligaciones en materia de transparencia. - En el portal de internet no existe información sobre los programas, servicios y mecanismos de contacto. | L43: - La organización distingue entre la información pública y reservada. - Se cumple con algunas de las obligaciones en materia de transparencia. - En el portal de internet existe información sobre algunos de los programas y servicios. | M43: - La organización distingue entre la información pública y reservada. - Se cumple con la mayoría de las obligaciones en materia de transparencia. - En el portal de internet hay información poco accesible sobre los programas y servicios. | O43: - La organización distingue entre la información pública y reservada. - Se cumple con todas las obligaciones en materia de transparencia. - En el portal de internet hay información accesible y actualizada sobre los programas, servicios y mecanismos de contacto.
B48: Procuración y diversificación de fondos | O48: Puntaje (máximo 4) | P48: Porcentaje (máximo 100%)
O49: =P49*4 -> 0 | P49: =X51 -> 0
B50: Preguntas Generadoras | G50: Respuesta | L50: Situación Actual | N50: Recomendaciones | S50: Ponderación | T50: Valor Máximo | V50: Valor Alcanzado
B51: ¿Existe un plan de procuración de fondos que se evalúe y actualice periódicamente? | E51: ? | G51: 1. No se tiene | J51: + | K51: =VLOOKUP(G51,Referencia!K96:L100,2) -> 0 | N51: - Desarrollar un plan de sostenibilidad financiera. - Generar un plan de procuración de fondos que permita diversificar fuentes de financiamiento y pueda ser periódicamente evaluado y actualizado. - Definir acciones para ampliar las fuentes de financiamiento de la organización. - Establecer mecanismos para generar un fondo patrimonial equivalente a al menos un año de operación de la organización. - Asignar a una persona capacitada dentro de la organización tareas específicas para la procuración de fondos de la organización. | S51: 0.3 | T51: 4 | U51: =T51*S51 -> 1.2 | V51: =SUM(W51:W54) -> 0 | W51: =U51*K51 -> 0 | X51: =SUM(Y51:Y54) -> 0 | Y51: =K51*S51 -> 0
B52: ¿Se ha logrado que la organización cuente con más de dos fuentes de financiamiento? | G52: 1. No, la organización depende de dos fuentes de financiamiento | J52: + | K52: =VLOOKUP(G52,Referencia!K106:L110,2) -> 0 | S52: 0.2 | U52: =T51*S52 -> 0.8 | W52: =U52*K52 -> 0 | Y52: =K52*S52 -> 0
...

Sheet 3.0 Procesos
B1: PROCESOS INTERNOS
C2: RESULTADOS | G2: ESCALA 4 | H2: ESCALA 100% | S2: Ponderación | T2: Valor Máximo | V2: Valor Alcanzado
C3: =B11 -> Procesos fundamentales | G3: =O12 -> #N/A | H3: =P12 -> #N/A | I3: 1 | S3: 0.4 | T3: 4 | U3: =T3*S3 -> 1.6 | V3: =SUM(W3:W6) -> #N/A | W3: =U3*(AVERAGE(H3)) -> #N/A | X3: =SUM(Y3:Y7) -> #N/A | Y3: =H3*S3 -> #N/A
C4: =B27 -> Procesos administrativos | G4: =O28 -> #N/A | H4: =P28 -> #N/A | I4: 1 | S4: 0.1 | U4: =T3*S4 -> 0.4 | W4: =U4*(AVERAGE(H4)) -> #N/A | Y4: =H4*S4 -> #N/A
C5: =B40 -> Indicadores | G5: =O41 -> 0 | H5: =P41 -> 0 | I5: 1 | S5: 0.25 | U5: =T3*S5 -> 1 | W5: =U5*(AVERAGE(H5)) -> 0 | Y5: =H5*S5 -> 0
C6: =B55 -> Mejora Continua | G6: =O56 -> 0 | H6: =P56 -> 0 | I6: 1 | S6: 0.25 | U6: =T3*S6 -> 1 | W6: =U6*(AVERAGE(H6)) -> 0 | Y6: =H6*S6 -> 0
C8: Puntaje Ponderado | G8: =H8*4 -> #N/A | H8: =X3 -> #N/A | S8: =SUM(S3:S6) -> 1 | U8: =SUM(U3:U5) -> 3 | W8: =SUM(W3:W5) -> #N/A
B11: Procesos fundamentales | O11: Puntaje (máximo 4) | P11: Porcentaje (máximo 100%)
O12: =P12*4 -> #N/A | P12: =X14 -> #N/A
B13: Preguntas Generadoras | G13: Respuesta | L13: Situación Actual | N13: Recomendaciones | S13: Ponderación | T13: Valor Máximo | V13: Valor Alcanzado
B14: ¿Se han mapeado los procesos organizacionales para identificar los más importantes? | G14: 1. No se ha realizado | J14: + | K14: =VLOOKUP(G14,Referencia!S5:T9,2) -> #N/A | N14: - Analizar los procesos organizacionales para identificar cuáles de ellos son los más importantes. - Documentar los procesos organizacionales de la organización. - Diseñar estrategias para que el equipo conozca y se apropie de los manuales de la organización y sus políticas. - Analizar las posibilidades de incorporar diferentes herramientas tecnológicas para automatizar procesos organizacionales internos. - Designar personas del equipo como responsables de cada uno de los procesos organizacionales identificados. - Generar mecanismos para difundir entre el equipo los procesos críticos. - Establecer un mecanismo de evaluación anual del funcionamiento y eficacia de los procesos organizacionales. | S14: 0.1 | T14: 4 | U14: =$T$14*S14 -> 0.4 | V14: =SUM(W14:W19) -> #N/A | W14: =U14*K14 -> #N/A | X14: =SUM(Y14:Y19) -> #N/A | Y14: =S14*K14 -> #N/A
B15: ¿Se tienen documentados, aplicados y actualizados los procedimientos vinculados a los procesos fundamentales para la organización? | E15: ? | G15: 1. No se ha realizado | J15: + | K15: =VLOOKUP(G15,Referencia!S15:T20,2) -> 0 | S15: 0.35 | U15: =$T$14*S15 -> 1.4 | W15: =U15*K15 -> 0 | Y15: =S15*K15 -> 0
B16: ¿Se difunden los procedimientos al interior de la organización? | G16: 1. No | J16: + | K16: =VLOOKUP(G16,Referencia!S26:T30,2) -> 0 | S16: 0.05 | U16: =$T$14*S16 -> 0.2 | W16: =U16*K16 -> 0 | Y16: =S16*K16 -> 0
B17: ¿Se cuenta con personas encargadas de aplicar los procesos críticos? | G17: 1. No se tienen | J17: + | K17: =VLOOKUP(G17,Referencia!S36:T40,2) -> 0 | S17: 0.25 | U17: =$T$14*S17 -> 1 | W17: =U17*K17 -> 0 | Y17: =S17*K17 -> 0
B18: ¿Se utilizan herramientas tecnológicas para automatizar procesos internos? | G18: 1. No | J18: + | K18: =VLOOKUP(G18,Referencia!S46:T50,2) -> 0 | S18: 0.15 | U18: =$T$14*S18 -> 0.6 | W18: =U18*K18 -> 0 | Y18: =S18*K18 -> 0
B19: ¿Se mide y evalúa la eficacia de los procesos? | E19: ? | G19: 1. No | J19: + | K19: =VLOOKUP(G19,Referencia!S56:T60,2) -> 0 | S19: 0.1 | U19: =$T$14*S19 -> 0.4 | W19: =U19*K19 -> 0 | Y19: =S19*K19 -> 0
B20: Documentación / Evidencia | G20: Capacidad Baja (1) | L20: Capacidad Básica (2) | M20: Capacidad Intermedia (3) | O20: Capacidad Fuerte (4) | S20: =SUM(S14:S19) -> 1
B21: Manual de Procesos de la organización | E21: =IF(K15=0%,0,(IF(K15<75%,1,2))) -> 0 | G21: - La organización no tiene identificados los procesos organizacionales. - No están documentados los procedimientos vinculados a los procesos organizacionales. - No se difunden los procesos organizacionales al interior de la organización. - La organización no ha designado a personas responsables de aplicar los procesos organizacionales. - No se evalúa la eficacia de los procesos organizacionales. | L21: - La organización ha identificados algunos procesos organizacionales. - Se trabaja en la documentación de los procedimientos vinculados a los procesos organizacionales. - En alguna ocasión se han dado a conocer los procesos organizacionales entre el equipo. - Se tiene identificado quiénes dentro del equipo podrían aplicar algunos de los procesos críticos. - La organización está desarrollando un mecanismo para evaluar la eficacia de los procesos organizacionales. | M21: - La organización ha identificado la mayoría de los procesos institucionales para identificar cuáles son los más importantes. -Se tienen documentados los procedimientos vinculados a los procesos organizacionales, pero requieren actualización. - Entre algunos miembros del equipo se difunden los procesos organizacionales. - Para algunos de los procesos organizacionales se han designado personas responsables pero no siempre los aplican ellas. - La organización mide y evalúa la eficacia de algunos de los procesos organizacionales. | O21: - La organización ha mapeado los procesos institucionales para identificar cuáles son los más importantes. -Se tienen documentados y actualizados los procedimientos vinculados a la los procesos organizacionales. - Entre el equipo se difunden los procesos organizacionales. - Se han designado personas responsables de aplicar los procesos organizacionales. - La organización evalúa periódicamente la eficacia de los procesos organizacionales.
B22: Política evaluación de los procesos de la organización | E22: =IF(K19=0%,0,(IF(K19<75%,1,2))) -> 0
B27: Procesos administrativos | O27: Puntaje (máximo 4) | P27: Porcentaje (máximo 100%)
O28: =P28*4 -> #N/A | P28: =X30 -> #N/A
B29: Preguntas Generadoras | G29: Respuesta | L29: Situación Actual | N29: Recomendaciones | S29: Ponderación | T29: Valor Máximo | V29: Valor Alcanzado
B30: ¿Están documentadas, aplicadas y actualizadas las políticas y procedimientos de traslado? | G30: 1. No está documentada | J30: + | K30: =VLOOKUP(G30,Referencia!S66:T70,2) -> #N/A | N30: - Establecer por escrito las políticas de traslado y adquisiciones. - Elaborar un plan de protección civil que establezca como actuar en caso de un siniestro. | S30: 0.35 | T30: 4 | U30: =T30*S30 -> 1.4 | V30: =SUM(W30:W32) -> #N/A | W30: =U30*K14 -> #N/A | X30: =SUM(Y30:Y32) -> #N/A | Y30: =K30*S30 -> #N/A
B31: ¿Están documentadas, aplicadas y actualizadas las políticas y procedimientos de adquisiciones? | G31: 1. No está documentada | J31: + | K31: =VLOOKUP(G31,Referencia!S76:T80,2) -> #N/A | S31: 0.35 | U31: =T30*S31 -> 1.4 | W31: =K31*U31 -> #N/A | Y31: =K31*S31 -> #N/A
B32: ¿Se cuenta con un plan de protección civil que detalle como actuar en caso de algún siniestro? | E32: ? | G32: 1. No se tiene | J32: + | K32: =VLOOKUP(G32,Referencia!S86:T90,2) -> 0 | S32: 0.3 | U32: =T30*S32 -> 1.2 | W32: =K17*U32 -> 0 | Y32: =K32*S32 -> 0
B33: Documentación / Evidencia | G33: Capacidad Baja (1) | L33: Capacidad Básica (2) | M33: Capacidad Intermedia (3) | O33: Capacidad Fuerte (4) | S33: =SUM(S30:S32) -> 1 | X33: =X30*T30 -> #N/A
B34: Plan de protección civil | E34: =IF(K32=0%,0,(IF(K32<75%,1,2))) -> 0 | G34: - La organización no cuenta con políticas de traslados. - La organización no tiene políticas y procedimientos de adquisiciones. - No se cuenta con un plan de protección civil para evacuar en caso de un siniestro. | L34: - Se cuenta con políticas de traslados pero no están documentadas. - La organización cuenta con políticas de adquisiciones pero no están documentadas. - No se cuenta con un plan de protección civil pero el equipo ha acordado cómo evacuar en caso de un siniestro. | M34: - Se cuenta por escrito con políticas de traslados y adquisiciones pero están desactualizadas. - Se tiene un plan de protección civil desactualizado. | O34: - Se cuenta con políticas de traslados y adquisiciones, actualizadas y por escrito. - Se tiene un plan de protección civil actualizado que detalla como actuar en caso de un siniestro.
B40: Indicadores | O40: Puntaje (máximo 4) | P40: Porcentaje (máximo 100%)
O41: =P41*4 -> 0 | P41: =X43 -> 0
B42: Preguntas Generadoras | G42: Respuesta | L42: Situación Actual | N42: Recomendaciones | S42: Ponderación | T42: Valor Máximo | V42: Valor Alcanzado
B43: ¿Se cuenta con indicadores para medir el desempeño institucional y por áreas? (incluye metas o valor deseado, criterios de incumplimiento y la periodicidad) | E43: ? | G43: 1. No se ha realizado | J43: + | K43: =VLOOKUP(G43,Referencia!S96:T100,2) -> 0 | N43: - Establecer indicadores para medir el desempeño institucional. Los indicadores deberán de incluir el procedimiento de la medición, la periodicidad, los valores deseados y los criterios de incumplimiento. - Establecer un área o persona responsable del proceso de análisis de indicadores. - Desarrollar formatos de evaluación mensual y reuniones de retroalimentación de los resultados. - Automatizar indicadores. | S43: 0.3 | T43: 4 | U43: =T43*S43 -> 1.2 | V43: =SUM(W43:W47) -> 0 | W43: =U43*K43 -> 0 | X43: =SUM(Y43:Y47) -> 0 | Y43: =K43*S43 -> 0
B44: ¿Se recopilan los datos necesarios para cada uno de los indicadores establecidos? | G44: 1.No / No se tienen indicadores | J44: + | K44: =VLOOKUP(G44,Referencia!S106:T110,2) -> 0 | S44: 0.2 | U44: =T43*S44 -> 0.8 | W44: =U44*K44 -> 0 | Y44: =K44*S44 -> 0
B45: ¿Existe un área o persona especializada a cargo del proceso de análisis de indicadores? | G45: 1. No | J45: + | K45: =VLOOKUP(G45,Referencia!S116:T120,2) -> 0 | S45: 0.2 | U45: =T43*S45 -> 0.8 | W45: =U45*K45 -> 0 | Y45: =K45*S45 -> 0
B46: ¿Se elabora un documento de evaluación mensual y se analizan los resultados? | G46: 1. No se ha realizado | J46: + | K46: =VLOOKUP(G46,Referencia!S126:T130,2) -> 0 | S46: 0.2 | U46: =T43*S46 -> 0.8 | W46: =U46*K46 -> 0 | Y46: =K46*S46 -> 0
B47: ¿Los indicadores están automatizados? | G47: 1. No | J47: + | K47: =VLOOKUP(G47,Referencia!S136:T140,2) -> 0 | S47: 0.1 | U47: =T43*S47 -> 0.4 | W47: =U47*K47 -> 0 | Y47: =K47*S47 -> 0
B48: Documentación / Evidencia | G48: Capacidad Baja (1) | L48: Capacidad Básica (2) | M48: Capacidad Intermedia (3) | O48: Capacidad Fuerte (4) | S48: =SUM(S43:S47) -> 1 | X48: =X43*T43 -> 0
B49: Listado de indicadores de desempeño | E49: =IF(K43=0%,0,(IF(K43<75%,1,2))) -> 0 | G49: - La organización no ha definido indicadores de desempeño institucional que le permitan verificar el cumplimiento de metas. | L49: - La organización ha establecido indicadores de desempeño institucional. - La organización no recopila los datos necesarios para verificar su cumplimiento. - No se tienen definidos los periodos de medición. - No se han definido los valores deseados de los indicadores ni criterios de incumplimiento. | M49: - La organización ha establecido indicadores de desempeño institucional. - La organización recopila anualmente los datos necesarios para verificar su cumplimiento. - Se tienen definidos los periodos de medición pero no se cumplen. - Se han definido los valores deseados de indicadores pero no los criterios de incumplimiento. | O49: - La organización ha establecido indicadores de desempeño institucional. - La organización recopila de forma periódica los datos necesarios para verificar su cumplimiento. - Se tienen definidos los periodos de medición y se cumplen. - Se han definido los valores deseados de indicadores y los criterios de incumplimiento.
B55: Mejora Continua | O55: Puntaje (máximo 4) | P55: Porcentaje (máximo 100%)
O56: =P56*4 -> 0 | P56: =X58 -> 0
B57: Preguntas Generadoras | G57: Respuesta | L57: Situación Actual | N57: Recomendaciones | S57: Ponderación | T57: Valor Máximo | V57: Valor Alcanzado
...

Sheet 4.0 Género e inclusión
B1: GÉNERO E INCLUSIÓN
C2: RESULTADOS | G2: ESCALA 4 | H2: ESCALA 100% | S2: Ponderación | T2: Valor Máximo | V2: Valor Alcanzado
C3: =B11 -> Políticas | G3: =O12 -> 0 | H3: =P12 -> 0 | I3: 1 | S3: 0.3 | T3: 4 | U3: =T3*S3 -> 1.2 | V3: =SUM(W3:W6) -> 0 | W3: =U3*(AVERAGE(H3)) -> 0 | X3: =SUM(Y3:Y6) -> 0 | Y3: =H3*S3 -> 0
C4: =B26 -> Implementación | G4: =O27 -> 0 | H4: =P27 -> 0 | I4: 1 | S4: 0.3 | U4: =T3*S4 -> 1.2 | W4: =U4*(AVERAGE(H4)) -> 0 | Y4: =H4*S4 -> 0
C5: =B40 -> Protocolos de actuación | G5: =O41 -> 0 | H5: =P41 -> 0 | I5: 1 | S5: 0.2 | U5: =T3*S5 -> 0.8 | W5: =U5*(AVERAGE(H5)) -> 0 | Y5: =H5*S5 -> 0
C6: =B53 -> Difusión | G6: =O54 -> 0 | H6: =P54 -> 0 | I6: 1 | S6: 0.2 | U6: =T3*S6 -> 0.8 | W6: =U6*(AVERAGE(H6)) -> 0 | Y6: =H6*S6 -> 0
C8: Puntaje Ponderado | G8: =H8*4 -> 0 | H8: =X3 -> 0 | S8: =SUM(S3:S6) -> 1 | U8: =SUM(U3:U6) -> 4 | W8: =SUM(W3:W6) -> 0
B11: Políticas | O11: Puntaje (máximo 4) | P11: Porcentaje (máximo 100%) | S11: Ponderación | T11: Valor Máximo | V11: Valor Alcanzado
O12: =P12*4 -> 0 | P12: =X14 -> 0
B13: Preguntas Generadoras | G13: Respuesta | L13: Situación Actual | N13: Recomendaciones
B14: ¿El organigrama está diseñado desde una perspectiva de igualdad de género? | G14: 1. No | J14: + | K14: =VLOOKUP(G14,Referencia!AA5:AB9,2) -> 0 | N14: - Revisar el diseño del organigrama desde una perspectiva de género. - Implementar mecanismos para que mujeres estén representadas dentro de la organización y ocupen puestos de toma de decisiones. - Desarrollar una política de igualdad de género, inclusión y no discriminación. - Establecer por escrito mecanismos para monitorear la político de igualdad de género, inclusión y no discriminación. - Establecer mecanismos de selección de personal que consideren la situación personal, la desigualdad de condiciones y que promuevan la equidad de género. - Elaborar y aplicar políticas para promover la igualdad laboral y no discriminación en las diferentes áreas y tareas de la organización. | S14: 0.15 | T14: 4 | U14: =T14*S14 -> 0.6 | V14: =SUM(W14:W18) -> 0 | W14: =U14*K14 -> 0 | X14: =SUM(Y14:Y18) -> 0 | Y14: =K14*S14 -> 0
B15: ¿Existen mecanismos para asegurar la igualdad de hombres y mujeres en la ocupación de puestos de toma de decisiones? | G15: 1. No | J15: + | K15: =VLOOKUP(G15,Referencia!AA15:AB19,2) -> 0 | S15: 0.35 | U15: =T14*S15 -> 1.4 | W15: =K15*U15 -> 0 | Y15: =K15*S15 -> 0
B16: ¿Existe una política / plan de igualdad de oportunidades y no discriminación? | E16: ? | G16: 1. No | J16: + | K16: =VLOOKUP(G16,Referencia!AA25:AB29,2) -> 0 | S16: 0.15 | U16: =T14*S16 -> 0.6 | W16: =K16*U16 -> 0 | Y16: =K16*S16 -> 0
B17: ¿Están implementados procedimientos para garantizar la aplicación del plan y/o política de género, inclusión y no discriminación? | G17: 1. No | J17: + | K17: =VLOOKUP(G17,Referencia!AA35:AB39,2) -> 0 | S17: 0.15 | U17: =T14*S17 -> 0.6 | W17: =K17*U17 -> 0 | Y17: =K17*S17 -> 0
B18: ¿Se promueven prácticas de igualdad laboral y no discriminación en las diferentes tareas de la organización? | G18: 1. No | J18: + | K18: =VLOOKUP(G18,Referencia!AA45:AB49,2) -> 0 | S18: 0.2 | U18: =T14*S18 -> 0.8 | W18: =K18*U18 -> 0 | Y18: =K18*S18 -> 0
B19: Documentación / Evidencia | G19: Capacidad Baja (1) | L19: Capacidad Básica (2) | M19: Capacidad Intermedia (3) | O19: Capacidad Fuerte (4) | S19: =SUM(S14:S18) -> 1 | X19: =X14*T14 -> 0
